BEGIN:VCALENDAR
PRODID:-//Solspace/Calendar//EN
VERSION:2.0
CALSCALE:GREGORIAN
BEGIN:VEVENT
UID:621070160f0955bcb291c2dd5979e2c5@solspace.com
DTSTAMP:20260420T225637
DTSTART;TZID=America/Chicago:20260425T190000
DTEND;TZID=America/Chicago:20260426T000000
SUMMARY:DOLLY BAR CRAWL
END:VEVENT
END:VCALENDAR